BEGIN:VCALENDAR
VERSION:2.0
PRODID:-//ICMA - ECPv6.15.12.2//NONSGML v1.0//EN
CALSCALE:GREGORIAN
METHOD:PUBLISH
X-ORIGINAL-URL:https://icma.am
X-WR-CALDESC:Events for ICMA
REFRESH-INTERVAL;VALUE=DURATION:PT1H
X-Robots-Tag:noindex
X-PUBLISHED-TTL:PT1H
BEGIN:VTIMEZONE
TZID:Asia/Yerevan
BEGIN:STANDARD
TZOFFSETFROM:+0400
TZOFFSETTO:+0400
TZNAME:+04
DTSTART:20240101T000000
END:STANDARD
END:VTIMEZONE
BEGIN:VEVENT
DTSTART;TZID=Asia/Yerevan:20250929T093000
DTEND;TZID=Asia/Yerevan:20250929T173000
DTSTAMP:20260421T124321
CREATED:20250821T072104Z
LAST-MODIFIED:20251010T102816Z
UID:4246-1759138200-1759167000@icma.am
SUMMARY:Global Progress in Optimizing Mining Processes: Prospects for Armenia
DESCRIPTION:The American University of Armenia (AUA) Center for Responsible Mining\, the Armenian International Mining & Metallurgical Society (AIMMS)\, and the International Chamber of Mines of Armenia (ICMA) present Global Progress in Optimizing Mining Processes: Prospects for Armenia\, taking place on September 29\, 2025\, at AUA in Yerevan\, Armenia. \nThe workshop will feature a series of industry and academic talks covering a range of topics primarily focused on reducing the environmental and resource footprint of metal mining. Topics will include minimizing waste\, optimizing power and water usage\, and handling bulk materials.
URL:https://icma.am/event/examoke-event/
LOCATION:Alex and Marie Manoogial Hall\, 40 Baghramyan Avenue\, Yerevan\, Yerevan\, 0019\, Armenia
CATEGORIES:Upcoming Events
ATTACH;FMTTYPE=image/png:https://icma.am/wp-content/uploads/2025/08/1759048148630.png
END:VEVENT
BEGIN:VEVENT
DTSTART;TZID=Asia/Yerevan:20250907T080000
DTEND;TZID=Asia/Yerevan:20250907T170000
DTSTAMP:20260421T124321
CREATED:20250821T074136Z
LAST-MODIFIED:20250821T074347Z
UID:4261-1757232000-1757264400@icma.am
SUMMARY:Event 2
DESCRIPTION:
URL:https://icma.am/event/event-2/
LOCATION:Marriot\, Andranik108/10\, erevan\, Erevan\, 91401\, Armenia
CATEGORIES:Critical Insights
ATTACH;FMTTYPE=image/jpeg:https://icma.am/wp-content/uploads/2025/08/photo-1527192491265-7e15c55b1ed2.jpeg
END:VEVENT
BEGIN:VEVENT
DTSTART;TZID=Asia/Yerevan:20250903T080000
DTEND;TZID=Asia/Yerevan:20250903T170000
DTSTAMP:20260421T124321
CREATED:20250821T074158Z
LAST-MODIFIED:20250821T074223Z
UID:4263-1756886400-1756918800@icma.am
SUMMARY:Event 3
DESCRIPTION:
URL:https://icma.am/event/event-3/
LOCATION:Marriot\, Andranik108/10\, erevan\, Erevan\, 91401\, Armenia
CATEGORIES:Webinars
ATTACH;FMTTYPE=image/jpeg:https://icma.am/wp-content/uploads/2025/08/photo-1527192491265-7e15c55b1ed2.jpeg
END:VEVENT
END:VCALENDAR